BEGIN:VCALENDAR
VERSION:2.0
PRODID:-//Tukios.com/
BEGIN:VEVENT
UID:ccce34dc-b6d4-43aa-86e0-6e2cee33a69f@www.walkerfuneralhomes.com
DTSTAMP:20260424T222721Z
DTSTART:20260503T180000Z
DTEND:20260503T190000Z
SUMMARY:Visitation
DESCRIPTION:
URL:https://www.walkerfuneralhomes.com/obituaries/timothy-swartz
LOCATION:Walker Funeral Home 5155 W Sylvania Ave  Toledo OH 43623
GEO:41.6905186;-83.6664348
END:VEVENT
END:VCALENDAR