BEGIN:VCALENDAR
VERSION:2.0
PRODID:-//Tukios.com/
BEGIN:VEVENT
UID:381ca722-4475-448e-ab9c-ca46cbe48df4@www.walkerfuneralhomes.com
DTSTAMP:20260424T223141Z
DTSTART:20260503T170000Z
DTEND:20260503T180000Z
SUMMARY:Memorial Service
DESCRIPTION:
URL:https://www.walkerfuneralhomes.com/obituaries/timothy-swartz
LOCATION:Walker Funeral Home 5155 W Sylvania Ave  Toledo OH 43623
GEO:41.6905186;-83.6664348
END:VEVENT
END:VCALENDAR