BEGIN:VCALENDAR
VERSION:2.0
PRODID:-//Tukios.com/
BEGIN:VEVENT
UID:7dfe2621-9077-45cd-b6ff-8681a053afc4@www.walkerfuneralhomes.com
DTSTAMP:20260422T211116Z
DTSTART:20260425T170000Z
DTEND:20260425T190000Z
SUMMARY:Visitation
DESCRIPTION:
URL:https://www.walkerfuneralhomes.com/obituaries/thomas-dubose
LOCATION:Walker Funeral Home & Crematory - Sylvania 5155 W. Sylvania 
	Avenue  Toledo OH 43623
GEO:41.6905186;-83.6664348
END:VEVENT
END:VCALENDAR