BEGIN:VCALENDAR
VERSION:2.0
PRODID:-//Tukios.com/
BEGIN:VEVENT
UID:c664fd3e-78a9-4de2-a61f-765ebac73b7c@www.walkerfuneralhomes.com
DTSTAMP:20260422T011600Z
DTSTART:20260424T153000Z
DTEND:20260424T163000Z
SUMMARY:Visitation
DESCRIPTION:
URL:https://www.walkerfuneralhomes.com/obituaries/stephen-drake
LOCATION:Walker Funeral Home & Crematory - Sylvania 5155 W. Sylvania 
	Avenue  Toledo OH 43623
GEO:41.6905186;-83.6664348
END:VEVENT
END:VCALENDAR