BEGIN:VCALENDAR
VERSION:2.0
PRODID:-//Tukios.com/
BEGIN:VEVENT
UID:63bb9dac-e42b-4553-a0dd-19bad52bd148@www.walkerfuneralhomes.com
DTSTAMP:20260422T011600Z
DTSTART:20260424T163000Z
DTEND:20260424T173000Z
SUMMARY:Funeral Service
DESCRIPTION:
URL:https://www.walkerfuneralhomes.com/obituaries/stephen-drake
LOCATION:Walker Funeral Home & Crematory - Sylvania 5155 W. Sylvania 
	Avenue  Toledo OH 43623
GEO:41.6905186;-83.6664348
END:VEVENT
END:VCALENDAR