BEGIN:VCALENDAR
VERSION:2.0
PRODID:-//Tukios.com/
BEGIN:VEVENT
UID:18dd2843-a0d5-498f-a9ab-4e1824164767@www.walkerfuneralhomes.com
DTSTAMP:20260419T224638Z
DTSTART:20260424T230000Z
DTEND:20260425T000000Z
SUMMARY:Memorial Service
DESCRIPTION:
URL:https://www.walkerfuneralhomes.com/obituaries/sharon-oneal
LOCATION:Walker Funeral Home & Crematory - Sylvania 5155 W. Sylvania 
	Avenue  Toledo OH 43623
GEO:41.6905186;-83.6664348
END:VEVENT
END:VCALENDAR