BEGIN:VCALENDAR
VERSION:2.0
PRODID:-//Tukios.com/
BEGIN:VEVENT
UID:93296a5f-8e68-470e-85ba-cd45a8ce290f@www.walkerfuneralhomes.com
DTSTAMP:20260420T211943Z
DTSTART:20260422T140000Z
DTEND:20260422T160000Z
SUMMARY:Visitation
DESCRIPTION:
URL:https://www.walkerfuneralhomes.com/obituaries/patricia-runyon
LOCATION:Sandusky Church of God 1018 W. Bogart Road  Sandusky OH 44870
GEO:41.3957637;-82.6923605
END:VEVENT
END:VCALENDAR