BEGIN:VCALENDAR
VERSION:2.0
PRODID:-//Tukios.com/
BEGIN:VEVENT
UID:0172964b-0299-406e-acb7-09389de2a976@www.walkerfuneralhomes.com
DTSTAMP:20260420T211650Z
DTSTART:20260422T160000Z
DTEND:20260422T170000Z
SUMMARY:Funeral Service
DESCRIPTION:
URL:https://www.walkerfuneralhomes.com/obituaries/patricia-runyon
LOCATION:Sandusky Church of God 1018 W. Bogart Road  Sandusky OH 44870
GEO:41.3957637;-82.6923605
END:VEVENT
END:VCALENDAR