BEGIN:VCALENDAR
VERSION:2.0
PRODID:-//Tukios.com/
BEGIN:VEVENT
UID:a17710af-c035-4384-825b-4c020894be88@www.walkerfuneralhomes.com
DTSTAMP:20260420T212154Z
DTSTART:20260422T173000Z
DTEND:20260422T174500Z
SUMMARY:Graveside Service
DESCRIPTION:
URL:https://www.walkerfuneralhomes.com/obituaries/patricia-runyon
LOCATION:Riverview Cemetery- Port Clinton, Ohio 1023 W. Third Street  
	Port Clinton OH 43452
GEO:41.5101212;-82.9586229
END:VEVENT
END:VCALENDAR