BEGIN:VCALENDAR
VERSION:2.0
PRODID:-//Tukios.com/
BEGIN:VEVENT
UID:1b928c5f-6ab3-4ef4-860f-41def7be7084@www.walkerfuneralhomes.com
DTSTAMP:20260425T173249Z
DTSTART:20260427T190000Z
DTEND:20260427T230000Z
SUMMARY:Visitation
DESCRIPTION:
URL:https://www.walkerfuneralhomes.com/obituaries/lance-tyo
LOCATION:Walker Funeral Home & Crematory - Sylvania 5155 W. Sylvania 
	Avenue  Toledo OH 43623
GEO:41.6905186;-83.6664348
END:VEVENT
END:VCALENDAR