BEGIN:VCALENDAR
VERSION:2.0
PRODID:-//Tukios.com/
BEGIN:VEVENT
UID:7e611017-8886-4382-bec1-0ea86746a75f@www.walkerfuneralhomes.com
DTSTAMP:20260425T173833Z
DTSTART:20260428T150000Z
DTEND:20260428T160000Z
SUMMARY:Funeral Service
DESCRIPTION:
URL:https://www.walkerfuneralhomes.com/obituaries/lance-tyo
LOCATION:Five Lakes Church Life Center 4765 McCord Road  Sylvania OH 
	43560
GEO:41.7015065;-83.7049293
END:VEVENT
END:VCALENDAR