BEGIN:VCALENDAR
VERSION:2.0
PRODID:-//Tukios.com/
BEGIN:VEVENT
UID:e156a581-8be6-4e06-af55-12e3cfb95090@www.walkerfuneralhomes.com
DTSTAMP:20260423T184354Z
DTSTART:20260427T140000Z
DTEND:20260427T160000Z
SUMMARY:Visitation
DESCRIPTION:
URL:https://www.walkerfuneralhomes.com/obituaries/lana-campbell
LOCATION:Robinson-Walker Funeral Home & Crematory - Genoa 501 West Street 
	 Genoa OH 43430
GEO:41.5169567;-83.3596437
END:VEVENT
END:VCALENDAR