BEGIN:VCALENDAR
VERSION:2.0
PRODID:-//Tukios.com/
BEGIN:VEVENT
UID:4d6b7fcb-428f-4149-bd6f-c421d610335e@www.walkerfuneralhomes.com
DTSTAMP:20260423T184140Z
DTSTART:20260427T160000Z
DTEND:20260427T163000Z
SUMMARY:Funeral Service
DESCRIPTION:
URL:https://www.walkerfuneralhomes.com/obituaries/lana-campbell
LOCATION:Robinson-Walker Funeral Home & Crematory - Genoa 501 West Street 
	 Genoa OH 43430
GEO:41.5169567;-83.3596437
END:VEVENT
END:VCALENDAR