BEGIN:VCALENDAR
VERSION:2.0
PRODID:-//Tukios.com/
BEGIN:VEVENT
UID:5ffc299b-15af-41cc-9e49-a4e19f6cf7cc@www.walkerfuneralhomes.com
DTSTAMP:20260423T184428Z
DTSTART:20260427T170000Z
DTEND:20260427T171500Z
SUMMARY:Graveside Service
DESCRIPTION:
URL:https://www.walkerfuneralhomes.com/obituaries/lana-campbell
LOCATION:Clay Township Cemetery 439 S. Opfer-Lentz Road  Elmore OH 43416
GEO:41.5098386;-83.3184781
END:VEVENT
END:VCALENDAR