BEGIN:VCALENDAR
VERSION:2.0
PRODID:-//Tukios.com/
BEGIN:VEVENT
UID:e5bde81b-6fb0-4c84-b84d-aa908348ac67@www.walkerfuneralhomes.com
DTSTAMP:20260424T185909Z
DTSTART:20260502T160000Z
DTEND:20260502T180000Z
SUMMARY:Visitation
DESCRIPTION:
URL:https://www.walkerfuneralhomes.com/obituaries/james-arthur-daniels
LOCATION:Walker Funeral Home & Crematory - Sylvania 5155 W. Sylvania 
	Avenue  Toledo OH 43623
GEO:41.6905186;-83.6664348
END:VEVENT
END:VCALENDAR