BEGIN:VCALENDAR
VERSION:2.0
PRODID:-//Tukios.com/
BEGIN:VEVENT
UID:57381256-4503-441b-8c08-251f06c8f4b1@www.walkerfuneralhomes.com
DTSTAMP:20260424T190153Z
DTSTART:20260502T190000Z
DTEND:20260502T210000Z
SUMMARY:Celebration of Life
DESCRIPTION:
URL:https://www.walkerfuneralhomes.com/obituaries/james-arthur-daniels
LOCATION:Walker Funeral Home & Crematory - Sylvania 5155 W. Sylvania 
	Avenue  Toledo OH 43623
GEO:41.6905186;-83.6664348
END:VEVENT
END:VCALENDAR