BEGIN:VCALENDAR
VERSION:2.0
PRODID:-//Tukios.com/
BEGIN:VEVENT
UID:6fcab8c3-5147-43e4-b5d8-b245a97d47b8@www.walkerfuneralhomes.com
DTSTAMP:20260422T190852Z
DTSTART:20260606T153000Z
DTEND:20260606T193000Z
SUMMARY:Open House
DESCRIPTION:
URL:https://www.walkerfuneralhomes.com/obituaries/frederick-haas
LOCATION: 6072 Main Street  Sylvania OH 43560
GEO:41.7243112;-83.7076669
END:VEVENT
END:VCALENDAR