BEGIN:VCALENDAR
VERSION:2.0
PRODID:-//Tukios.com/
BEGIN:VEVENT
UID:666008be-c8aa-4c61-a75e-b6981338b88a@www.walkerfuneralhomes.com
DTSTAMP:20260424T205117Z
DTSTART:20260508T200000Z
DTEND:20260508T230000Z
SUMMARY:Visitation
DESCRIPTION:
URL:https://www.walkerfuneralhomes.com/obituaries/carolyn-fee
LOCATION:Walker Funeral Home & Crematory - Sylvania 5155 W. Sylvania 
	Avenue  Toledo OH 43623
GEO:41.6905186;-83.6664348
END:VEVENT
END:VCALENDAR