BEGIN:VCALENDAR
VERSION:2.0
PRODID:-//Tukios.com/
BEGIN:VEVENT
UID:37fb3787-7978-4d10-9b77-e8edb4497872@www.walkerfuneralhomes.com
DTSTAMP:20260424T205158Z
DTSTART:20260508T230000Z
DTEND:20260508T234500Z
SUMMARY:Memorial Service
DESCRIPTION:
URL:https://www.walkerfuneralhomes.com/obituaries/carolyn-fee
LOCATION:Walker Funeral Home & Crematory - Sylvania 5155 W. Sylvania 
	Avenue  Toledo OH 43623
GEO:41.6905186;-83.6664348
END:VEVENT
END:VCALENDAR