BEGIN:VCALENDAR
VERSION:2.0
PRODID:-//Tukios.com/
BEGIN:VEVENT
UID:1d790352-f08a-4bf1-83e6-aba368477d73@www.walkerfuneralhomes.com
DTSTAMP:20260420T223918Z
DTSTART:20260425T160000Z
DTEND:20260425T200000Z
SUMMARY:Visitation
DESCRIPTION:
URL:https://www.walkerfuneralhomes.com/obituaries/aaron-whitaker
LOCATION:Gerner-Wolf-Walker Funeral Home & Crematory - Port Clinton 216 
	Washington Street  Port Clinton OH 43452
GEO:41.5114574;-82.9361521
END:VEVENT
END:VCALENDAR