BEGIN:VCALENDAR
VERSION:2.0
PRODID:-//Tukios.com/
BEGIN:VEVENT
UID:b00b132b-06f3-4e0d-9c2b-c151075becac@www.walkerfuneralhomes.com
DTSTAMP:20260420T223719Z
DTSTART:20260425T200000Z
DTEND:20260425T210000Z
SUMMARY:Funeral Service
DESCRIPTION:
URL:https://www.walkerfuneralhomes.com/obituaries/aaron-whitaker
LOCATION:Gerner-Wolf-Walker Funeral Home & Crematory - Port Clinton 216 
	Washington Street  Port Clinton OH 43452
GEO:41.5114574;-82.9361521
END:VEVENT
END:VCALENDAR